BEGIN:VCALENDAR
VERSION:2.0
PRODID:-//Kenilworth Books - ECPv6.15.17.1//NONSGML v1.0//EN
CALSCALE:GREGORIAN
METHOD:PUBLISH
X-ORIGINAL-URL:https://www.kenilworthbooks.co.uk
X-WR-CALDESC:Events for Kenilworth Books
REFRESH-INTERVAL;VALUE=DURATION:PT1H
X-Robots-Tag:noindex
X-PUBLISHED-TTL:PT1H
BEGIN:VTIMEZONE
TZID:Europe/London
BEGIN:DAYLIGHT
TZOFFSETFROM:+0000
TZOFFSETTO:+0100
TZNAME:BST
DTSTART:20250330T010000
END:DAYLIGHT
BEGIN:STANDARD
TZOFFSETFROM:+0100
TZOFFSETTO:+0000
TZNAME:GMT
DTSTART:20251026T010000
END:STANDARD
BEGIN:DAYLIGHT
TZOFFSETFROM:+0000
TZOFFSETTO:+0100
TZNAME:BST
DTSTART:20260329T010000
END:DAYLIGHT
BEGIN:STANDARD
TZOFFSETFROM:+0100
TZOFFSETTO:+0000
TZNAME:GMT
DTSTART:20261025T010000
END:STANDARD
BEGIN:DAYLIGHT
TZOFFSETFROM:+0000
TZOFFSETTO:+0100
TZNAME:BST
DTSTART:20270328T010000
END:DAYLIGHT
BEGIN:STANDARD
TZOFFSETFROM:+0100
TZOFFSETTO:+0000
TZNAME:GMT
DTSTART:20271031T010000
END:STANDARD
END:VTIMEZONE
BEGIN:VEVENT
DTSTART;TZID=Europe/London:20260311T183000
DTEND;TZID=Europe/London:20260311T203000
DTSTAMP:20260421T091326
CREATED:20260214T165406Z
LAST-MODIFIED:20260309T114411Z
UID:226964-1773253800-1773261000@www.kenilworthbooks.co.uk
SUMMARY:CANCELLED - Nature Writing Workshop
DESCRIPTION:SORRY – WE HAVE HAD TO CANCEL THIS EVENT AS JOE HAS SADLY BROKEN HIS LEG – WE ARE TO KEEN TO REARRANGE ONCE HE IS RECOEVERED AND WILL UP-DATE ONCE WE KNOW THE NEW DATE \nCome and meet journalist and author Joe Minihane\, who will be leading a writing workshop and showcasing his book Floating. \nFloating is the story of one man’s search for himself across the breadth of Britain’s wild waters. \nIn this workshop\, Joe will take us through different examples of nature/outdoor writing\, how they work\, why they work and what we can learn from them. He will then provide a prompt and lead a writing task\, after which there will be the chance for people to share and discuss their work if they want to. \nhttps://www.kenilworthbooks.co.uk/product/nature-writing-workshop/
URL:https://www.kenilworthbooks.co.uk/event/nature-writing-workshop/
LOCATION:Kenilworth Books
ATTACH;FMTTYPE=image/jpeg:https://www.kenilworthbooks.co.uk/wp-content/uploads/2026/02/Joe-Minihane-Nature-Writing-Workshop-2.jpg
ORGANIZER;CN="Kenilworth Books":MAILTO:info@kenilworthbooks.co.uk
END:VEVENT
END:VCALENDAR