BEGIN:VCALENDAR
VERSION:2.0
PRODID:-//Kenilworth Books - ECPv6.15.17.1//NONSGML v1.0//EN
CALSCALE:GREGORIAN
METHOD:PUBLISH
X-WR-CALNAME:Kenilworth Books
X-ORIGINAL-URL:https://www.kenilworthbooks.co.uk
X-WR-CALDESC:Events for Kenilworth Books
REFRESH-INTERVAL;VALUE=DURATION:PT1H
X-Robots-Tag:noindex
X-PUBLISHED-TTL:PT1H
BEGIN:VTIMEZONE
TZID:Europe/London
BEGIN:DAYLIGHT
TZOFFSETFROM:+0000
TZOFFSETTO:+0100
TZNAME:BST
DTSTART:20250330T010000
END:DAYLIGHT
BEGIN:STANDARD
TZOFFSETFROM:+0100
TZOFFSETTO:+0000
TZNAME:GMT
DTSTART:20251026T010000
END:STANDARD
BEGIN:DAYLIGHT
TZOFFSETFROM:+0000
TZOFFSETTO:+0100
TZNAME:BST
DTSTART:20260329T010000
END:DAYLIGHT
BEGIN:STANDARD
TZOFFSETFROM:+0100
TZOFFSETTO:+0000
TZNAME:GMT
DTSTART:20261025T010000
END:STANDARD
BEGIN:DAYLIGHT
TZOFFSETFROM:+0000
TZOFFSETTO:+0100
TZNAME:BST
DTSTART:20270328T010000
END:DAYLIGHT
BEGIN:STANDARD
TZOFFSETFROM:+0100
TZOFFSETTO:+0000
TZNAME:GMT
DTSTART:20271031T010000
END:STANDARD
END:VTIMEZONE
BEGIN:VEVENT
DTSTART;TZID=Europe/London:20260312T190000
DTEND;TZID=Europe/London:20260312T203000
DTSTAMP:20260421T103700
CREATED:20260228T141929Z
LAST-MODIFIED:20260228T142533Z
UID:227062-1773342000-1773347400@www.kenilworthbooks.co.uk
SUMMARY:'Delves Into Mystic Warwickshire' Treasure Quest Book Launch with John Watson
DESCRIPTION:Come and meet local poet\, sculptor and organic allotmenteer John Watson at Kenilworth Books. \nJohn has sculpted and cast a series of seven mystical garden delves into existence! He has written a seven-chapter book of prose\, poetry and artwork relevant to each bronze Delve. In each chapter is a riddle in rhyme\, a clue to the whereabouts of a bronze token. The seven tokens are hidden within the ancient county of Warwickshire. \nThey have a priceless intrinsic value and can be sought for and gained\, only by romantic quest! Tickets for the Launch are free but must be booked here or by popping into the bookshop in Talisman Square or phoning 01926 855784 \nBuy the book here! \n‘Delves Into Mystic Warwickshire’ Treasure Quest Book Launch with John Watson
URL:https://www.kenilworthbooks.co.uk/event/delves-into-mystic-warwickshire-treasure-quest-book-launch-with-john-watson/
LOCATION:Kenilworth Books
ATTACH;FMTTYPE=image/jpeg:https://www.kenilworthbooks.co.uk/wp-content/uploads/2026/02/John-Watson-Book-Launch-1.jpg
ORGANIZER;CN="Kenilworth Books":MAILTO:info@kenilworthbooks.co.uk
END:VEVENT
END:VCALENDAR