BEGIN:VCALENDAR
VERSION:2.0
PRODID:-//Kenilworth Books - ECPv6.15.17.1//NONSGML v1.0//EN
CALSCALE:GREGORIAN
METHOD:PUBLISH
X-ORIGINAL-URL:https://www.kenilworthbooks.co.uk
X-WR-CALDESC:Events for Kenilworth Books
REFRESH-INTERVAL;VALUE=DURATION:PT1H
X-Robots-Tag:noindex
X-PUBLISHED-TTL:PT1H
BEGIN:VTIMEZONE
TZID:Europe/London
BEGIN:DAYLIGHT
TZOFFSETFROM:+0000
TZOFFSETTO:+0100
TZNAME:BST
DTSTART:20220327T010000
END:DAYLIGHT
BEGIN:STANDARD
TZOFFSETFROM:+0100
TZOFFSETTO:+0000
TZNAME:GMT
DTSTART:20221030T010000
END:STANDARD
BEGIN:DAYLIGHT
TZOFFSETFROM:+0000
TZOFFSETTO:+0100
TZNAME:BST
DTSTART:20230326T010000
END:DAYLIGHT
BEGIN:STANDARD
TZOFFSETFROM:+0100
TZOFFSETTO:+0000
TZNAME:GMT
DTSTART:20231029T010000
END:STANDARD
BEGIN:DAYLIGHT
TZOFFSETFROM:+0000
TZOFFSETTO:+0100
TZNAME:BST
DTSTART:20240331T010000
END:DAYLIGHT
BEGIN:STANDARD
TZOFFSETFROM:+0100
TZOFFSETTO:+0000
TZNAME:GMT
DTSTART:20241027T010000
END:STANDARD
END:VTIMEZONE
BEGIN:VEVENT
DTSTART;TZID=Europe/London:20230722T103000
DTEND;TZID=Europe/London:20230722T133000
DTSTAMP:20260423T034432
CREATED:20230615T161140Z
LAST-MODIFIED:20230615T161351Z
UID:221169-1690021800-1690032600@www.kenilworthbooks.co.uk
SUMMARY:Saturday Signing - meet local author Chris Davies
DESCRIPTION:‘Prickly-Pong Island and the Revenge of Captain Red’ is a thrilling\, page-turning\, animal/pirate adventure set in the islands of the South Pacific.The story involves the theft of an ancient treasure that belongs to a wise\, Eco-friendly\, Polynesian Chief\, and his humble island people who attempt to win it back from a ruthless\, fanatical pirate Captain\, claiming he is related to the notorious buccaneer Black Beard.
URL:https://www.kenilworthbooks.co.uk/event/saturday-signing-22nd-july-10-30-am-1-30-pm-meet-local-author-chris-davies/
LOCATION:Kenilworth Books
CATEGORIES:Book Signings,What's on at Kenilworth Books
ATTACH;FMTTYPE=image/jpeg:https://www.kenilworthbooks.co.uk/wp-content/uploads/2023/06/chris-davies-prickl-pong-island.jpg
END:VEVENT
END:VCALENDAR