BEGIN:VCALENDAR
VERSION:2.0
PRODID:-//Kenilworth Books - ECPv6.15.17.1//NONSGML v1.0//EN
CALSCALE:GREGORIAN
METHOD:PUBLISH
X-ORIGINAL-URL:https://www.kenilworthbooks.co.uk
X-WR-CALDESC:Events for Kenilworth Books
REFRESH-INTERVAL;VALUE=DURATION:PT1H
X-Robots-Tag:noindex
X-PUBLISHED-TTL:PT1H
BEGIN:VTIMEZONE
TZID:Europe/London
BEGIN:DAYLIGHT
TZOFFSETFROM:+0000
TZOFFSETTO:+0100
TZNAME:BST
DTSTART:20240331T010000
END:DAYLIGHT
BEGIN:STANDARD
TZOFFSETFROM:+0100
TZOFFSETTO:+0000
TZNAME:GMT
DTSTART:20241027T010000
END:STANDARD
BEGIN:DAYLIGHT
TZOFFSETFROM:+0000
TZOFFSETTO:+0100
TZNAME:BST
DTSTART:20250330T010000
END:DAYLIGHT
BEGIN:STANDARD
TZOFFSETFROM:+0100
TZOFFSETTO:+0000
TZNAME:GMT
DTSTART:20251026T010000
END:STANDARD
BEGIN:DAYLIGHT
TZOFFSETFROM:+0000
TZOFFSETTO:+0100
TZNAME:BST
DTSTART:20260329T010000
END:DAYLIGHT
BEGIN:STANDARD
TZOFFSETFROM:+0100
TZOFFSETTO:+0000
TZNAME:GMT
DTSTART:20261025T010000
END:STANDARD
END:VTIMEZONE
BEGIN:VEVENT
DTSTART;TZID=Europe/London:20250415T080000
DTEND;TZID=Europe/London:20250425T170000
DTSTAMP:20260422T011858
CREATED:20250327T122839Z
LAST-MODIFIED:20250327T122839Z
UID:224610-1744704000-1745600400@www.kenilworthbooks.co.uk
SUMMARY:Children's Easter Holiday Fun
DESCRIPTION:
URL:https://www.kenilworthbooks.co.uk/event/childrens-easter-holiday-fun/
LOCATION:Kenilworth Books
CATEGORIES:What's on at Kenilworth Books
ATTACH;FMTTYPE=image/jpeg:https://www.kenilworthbooks.co.uk/wp-content/uploads/2025/03/Copy-of-Pink-Yellow-Orange-Colorful-Easter-Egg-Hunt-Flyer.jpg
END:VEVENT
END:VCALENDAR